BEGIN:VCALENDAR
PRODID:-//Fabiunicredit//NONSGML v1.0//EN
VERSION:2.0
CALSCALE:GREGORIAN
METHOD:PUBLISH
X-WR-CALNAME:Fabiunicredit
X-ORIGINAL-URL:http://www.fabiunicredit.org
X-WR-CALDESC:Events for Fabiunicredit
BEGIN:VEVENT
DTSTART:20101116T103000
DTEND:20101116T230000
DTSTAMP:20260423T212322
CREATED:20101108T165838
LAST-MODIFIED:20101111T122649
UID:3163@http://www.fabiunicredit.org
SUMMARY:Gruppo: Incontro con i referenti
DESCRIPTION:Incontro tra Relazioni Industriali ed i Referenti delle OO.SS. al fine di effettuare una tempestiva valutazione dei dati di adesione all'esodo incentivato.
LOCATION:Milano, Italia
URL:http://www.fabiunicredit.org/events/incontro-con-i-referenti/
END:VEVENT
END:VCALENDAR