BEGIN:VCALENDAR
PRODID:-//Fabiunicredit//NONSGML v1.0//EN
VERSION:2.0
CALSCALE:GREGORIAN
METHOD:PUBLISH
X-WR-CALNAME:Fabiunicredit
X-ORIGINAL-URL:http://www.fabiunicredit.org
X-WR-CALDESC:Events for Fabiunicredit
BEGIN:VEVENT
DTSTART:20110126
DTEND:20110127
DTSTAMP:20260419T125249
CREATED:20110126T200209
LAST-MODIFIED:20110124T091604
UID:3908@http://www.fabiunicredit.org
SUMMARY:Gruppo: Agibilità Sindacali
DESCRIPTION:
LOCATION:Milano, Italia
URL:http://www.fabiunicredit.org/events/gruppo-data-bloccata-2/
END:VEVENT
END:VCALENDAR