BEGIN:VCALENDAR
PRODID:-//Fabiunicredit//NONSGML v1.0//EN
VERSION:2.0
CALSCALE:GREGORIAN
METHOD:PUBLISH
X-WR-CALNAME:Fabiunicredit
X-ORIGINAL-URL:http://www.fabiunicredit.org
X-WR-CALDESC:Events for Fabiunicredit
BEGIN:VEVENT
DTSTART:20110218
DTEND:20110219
DTSTAMP:20260421T091024
CREATED:20110218T195833
LAST-MODIFIED:20110214T092404
UID:4383@http://www.fabiunicredit.org
SUMMARY:MCC: Incontro RSA
DESCRIPTION:Incontro sulle tematiche connesse alla prossima uscita dal Gruppo
LOCATION:Sede MCC, Roma, Italia
URL:http://www.fabiunicredit.org/events/mcc-incontro-rsa/
END:VEVENT
END:VCALENDAR